BEGIN:VCALENDAR
VERSION:2.0
PRODID:-//Seviye Okulları - ECPv6.13.2.1//NONSGML v1.0//EN
CALSCALE:GREGORIAN
METHOD:PUBLISH
X-ORIGINAL-URL:https://www.seviye.k12.tr
X-WR-CALDESC:Seviye Okulları için etkinlikler
REFRESH-INTERVAL;VALUE=DURATION:PT1H
X-Robots-Tag:noindex
X-PUBLISHED-TTL:PT1H
BEGIN:VTIMEZONE
TZID:UTC
BEGIN:STANDARD
TZOFFSETFROM:+0000
TZOFFSETTO:+0000
TZNAME:UTC
DTSTART:20250101T000000
END:STANDARD
END:VTIMEZONE
BEGIN:VTIMEZONE
TZID:Europe/Moscow
BEGIN:STANDARD
TZOFFSETFROM:+0300
TZOFFSETTO:+0300
TZNAME:MSK
DTSTART:20250101T000000
END:STANDARD
END:VTIMEZONE
BEGIN:VEVENT
DTSTART;VALUE=DATE:20251110
DTEND;VALUE=DATE:20251111
DTSTAMP:20260419T175515
CREATED:20250912T092126Z
LAST-MODIFIED:20250912T092126Z
UID:26497-1762732800-1762819199@www.seviye.k12.tr
SUMMARY:Atatürk'ü Anma Günü
DESCRIPTION:
URL:https://www.seviye.k12.tr/etkinlik/ataturku-anma-gunu/
END:VEVENT
BEGIN:VEVENT
DTSTART;VALUE=DATE:20251029
DTEND;VALUE=DATE:20251030
DTSTAMP:20260419T175515
CREATED:20250912T085927Z
LAST-MODIFIED:20250912T090903Z
UID:26485-1761696000-1761782399@www.seviye.k12.tr
SUMMARY:Cumhuriyet Bayramı
DESCRIPTION:
URL:https://www.seviye.k12.tr/etkinlik/29-ekim-cumhuriyet-bayrami/
END:VEVENT
BEGIN:VEVENT
DTSTART;VALUE=DATE:20250919
DTEND;VALUE=DATE:20250920
DTSTAMP:20260419T175515
CREATED:20250912T091000Z
LAST-MODIFIED:20250912T091000Z
UID:26492-1758240000-1758326399@www.seviye.k12.tr
SUMMARY:Gaziler Günü Anma Töreni
DESCRIPTION:
URL:https://www.seviye.k12.tr/etkinlik/gaziler-gunu-anma-toreni/
END:VEVENT
BEGIN:VEVENT
DTSTART;VALUE=DATE:20250616
DTEND;VALUE=DATE:20250617
DTSTAMP:20260419T175515
CREATED:20250610T055316Z
LAST-MODIFIED:20250610T060327Z
UID:25892-1750032000-1750118399@www.seviye.k12.tr
SUMMARY:İLKOKUL İNGİLİZCE YIL SONU GÖSTERİSİ
DESCRIPTION:
URL:https://www.seviye.k12.tr/etkinlik/ingilizce-konser-2-siniflar/
END:VEVENT
BEGIN:VEVENT
DTSTART;VALUE=DATE:20250616
DTEND;VALUE=DATE:20250617
DTSTAMP:20260419T175515
CREATED:20250604T105747Z
LAST-MODIFIED:20250604T105747Z
UID:25887-1750032000-1750118399@www.seviye.k12.tr
SUMMARY:8.SINIFLAR KEP ATMA TÖRENİ
DESCRIPTION:
URL:https://www.seviye.k12.tr/etkinlik/8-siniflar-kep-atma-toreni/
END:VEVENT
BEGIN:VEVENT
DTSTART;VALUE=DATE:20250614
DTEND;VALUE=DATE:20250615
DTSTAMP:20260419T175515
CREATED:20250604T123422Z
LAST-MODIFIED:20250604T123422Z
UID:25889-1749859200-1749945599@www.seviye.k12.tr
SUMMARY:BABALAR GÜNÜ UÇURTMA ŞENLİĞİ
DESCRIPTION:
URL:https://www.seviye.k12.tr/etkinlik/babalar-gunu-ucurtma-senligi/
END:VEVENT
BEGIN:VEVENT
DTSTART;VALUE=DATE:20250612
DTEND;VALUE=DATE:20250613
DTSTAMP:20260419T175515
CREATED:20250611T091035Z
LAST-MODIFIED:20250611T091114Z
UID:25917-1749686400-1749772799@www.seviye.k12.tr
SUMMARY:FUTSAL TURNUVASI (3-4. SINIFLAR)
DESCRIPTION:
URL:https://www.seviye.k12.tr/etkinlik/futsal-turnuvasi3-4-siniflar/
END:VEVENT
BEGIN:VEVENT
DTSTART;VALUE=DATE:20250519
DTEND;VALUE=DATE:20250520
DTSTAMP:20260419T175515
CREATED:20250319T083430Z
LAST-MODIFIED:20250319T083430Z
UID:25508-1747612800-1747699199@www.seviye.k12.tr
SUMMARY:19 MAYIS ATATÜRK’Ü ANMA GENÇLİK VE SPOR BAYRAMI
DESCRIPTION:19 MAYIS ATATÜRK’Ü ANMA GENÇLİK VE SPOR BAYRAMI
URL:https://www.seviye.k12.tr/etkinlik/19-mayis-ataturku-anma-genclik-ve-spor-bayrami/
END:VEVENT
BEGIN:VEVENT
DTSTART;VALUE=DATE:20250505
DTEND;VALUE=DATE:20250506
DTSTAMP:20260419T175515
CREATED:20250415T054834Z
LAST-MODIFIED:20250429T105406Z
UID:25759-1746403200-1746489599@www.seviye.k12.tr
SUMMARY:"SEVİYELİ YETENEKLER" YARIŞMASI [final]
DESCRIPTION:
URL:https://www.seviye.k12.tr/etkinlik/seviyeli-yetenekler-yarismasi-final/
END:VEVENT
BEGIN:VEVENT
DTSTART;VALUE=DATE:20250425
DTEND;VALUE=DATE:20250426
DTSTAMP:20260419T175515
CREATED:20250415T054716Z
LAST-MODIFIED:20250415T055038Z
UID:25757-1745539200-1745625599@www.seviye.k12.tr
SUMMARY:“SEVİYELİ YETENEKLER” YARIŞMASI [ön eleme]
DESCRIPTION:
URL:https://www.seviye.k12.tr/etkinlik/seviyeli-yetenekler-yarismasi-on-eleme/
END:VEVENT
BEGIN:VEVENT
DTSTART;VALUE=DATE:20250423
DTEND;VALUE=DATE:20250424
DTSTAMP:20260419T175515
CREATED:20250225T103546Z
LAST-MODIFIED:20250301T072656Z
UID:25334-1745366400-1745452799@www.seviye.k12.tr
SUMMARY:23 NİSAN ULUSAL EGEMENLİK VE ÇOCUK BAYRAMI
DESCRIPTION:
URL:https://www.seviye.k12.tr/etkinlik/23-nisan-ulusal-egemenlik-ve-cocuk-bayrami/
END:VEVENT
BEGIN:VEVENT
DTSTART;VALUE=DATE:20250318
DTEND;VALUE=DATE:20250319
DTSTAMP:20260419T175515
CREATED:20250220T102150Z
LAST-MODIFIED:20250319T083231Z
UID:25107-1742256000-1742342399@www.seviye.k12.tr
SUMMARY:18 MART ÇANAKKALE ZAFERİ VE ŞEHİTLERİ ANMA GÜNÜ
DESCRIPTION:
URL:https://www.seviye.k12.tr/etkinlik/18-mart-canakkale-zaferi-ve-sehitleri-anma-gunu/
END:VEVENT
BEGIN:VEVENT
DTSTART;VALUE=DATE:20250312
DTEND;VALUE=DATE:20250313
DTSTAMP:20260419T175515
CREATED:20250220T101742Z
LAST-MODIFIED:20250220T101742Z
UID:25103-1741737600-1741823999@www.seviye.k12.tr
SUMMARY:12 MART İSTİKLAL MARŞI'NIN KABULÜ VE MEHMET AKİF ERSOY'U ANMA GÜNÜ
DESCRIPTION:
URL:https://www.seviye.k12.tr/etkinlik/12-mart-istiklal-marsinin-kabulu-ve-mehmet-akif-ersoyu-anma-gunu/
END:VEVENT
BEGIN:VEVENT
DTSTART;VALUE=DATE:20250225
DTEND;VALUE=DATE:20250226
DTSTAMP:20260419T175515
CREATED:20250219T092306Z
LAST-MODIFIED:20250220T101504Z
UID:24998-1740441600-1740527999@www.seviye.k12.tr
SUMMARY:"MAVİ" SLOGAN VE PANKART YARIŞMASI
DESCRIPTION: 
URL:https://www.seviye.k12.tr/etkinlik/first/
END:VEVENT
END:VCALENDAR